BEGIN:VCALENDAR
VERSION:2.0
PRODID:-//wp-events-plugin.com//7.2.3.1//EN
TZID:Europe/Berlin
X-WR-TIMEZONE:Europe/Berlin
BEGIN:VEVENT
UID:1217@ski-club-neu-isenburg.de
DTSTART;TZID=Europe/Berlin:20250422T180000
DTEND;TZID=Europe/Berlin:20250422T190000
DTSTAMP:20250415T060109Z
URL:https://www.ski-club-neu-isenburg.de/Termine/fit4kids-2025-04-22/
SUMMARY:Fit4Kids
DESCRIPTION:Wann: Jeden Dienstag von 18:00 bis 19:00 Uhr (Abweichungen evtl
 . in den Schulferien)\nWo: in der Turnhalle der Albert-Schweitzer-Schule\,
  Freiherr-vom-Stein-Straße 2\, Neu-Isenburg\, (Parkplatz Wilhelmsplatz)\n
 Was brauche ich um mitzumachen: Sportschuhe und Sportkleidung\nAnmeldung b
 ei: michael.pache@gmx.de . Wer mitmachen will schreibt einfach eine Mail.\
 n\nWichtig für das Wohlbefinden und die Gesundheit ist Bewegung – und d
 as gilt besonders für\nKinder.\nBedeutende Eigenschaften im Sport sind Gl
 eichgewicht\, Koordination und Schnelligkeit.\nDazu wird der Grundstein im
  Kindesalter gelegt.\nWenn Thomas Dreßen und Co im Winter den Berg runter
 sausen sieht alles spielerisch und\neinfach aus – auf den Ski und dann g
 eht es runter. Aber klar steckt dahinter hartes Training.\nIn unserer Kind
 erskigymnastik wollen wir mit Spaß die Grundfähigkeiten erwerben oder\nv
 erbessern\, die wir beim Skifahren brauchen: Kraft\, Ausdauer\, Koordinati
 on\, Gelenkigkeit\,\nGleichgewichtssinn und Schnelligkeit. Da diese Fähig
 keiten nicht nur die Grundlagen fürs\nSkifahren\, sondern für fast alle 
 Sportarten bilden\, eignet sich das Training für jeden\, der Lust\nhat\, 
 sich sportlich zu betätigen.\nRope Spinning (Seilspringen)\, einen Parcou
 rs durchlaufen\, motorische Übungen\,\nkonzentrationsfördernde Spiele un
 d mehr stehen auf unserem Trainingsprogramm. Vielleicht\nfindet auch die e
 ine oder andere Übungseinheit im Freien statt\, um z.B. Inline Skating.\n
 Neben den sportlichen Aktivitäten legen wir großen Wert auf soziale Aspe
 kte. Gemeinsames\nTraining bedeutet immer Teil einer Gruppe zu sein. Diese
 s fördert das soziale Verhalten und\nden Austausch untereinander.
ATTACH;FMTTYPE=image/jpeg:https://www.ski-club-neu-isenburg.de/wp-content/
 uploads/2022/07/IMG-20220627-WA0004.jpg
CATEGORIES:Fit4Kids
LOCATION:Turnhalle Albert-Schweitzer-Schule\, Freiherr-vom-Stein-Straße 2\
 , Neu-Isenburg\, 63263\, (Parkplatz Wilhelmsplatz)\, Deutschland
X-APPLE-STRUCTURED-LOCATION;VALUE=URI;X-ADDRESS=Freiherr-vom-Stein-Straße 
 2\, Neu-Isenburg\, 63263\, (Parkplatz Wilhelmsplatz)\, Deutschland;X-APPLE
 -RADIUS=100;X-TITLE=Turnhalle Albert-Schweitzer-Schule:geo:0,0
END:VEVENT
BEGIN:VTIMEZONE
TZID:Europe/Berlin
X-LIC-LOCATION:Europe/Berlin
BEGIN:DAYLIGHT
DTSTART:20250330T030000
TZOFFSETFROM:+0100
TZOFFSETTO:+0200
TZNAME:CEST
END:DAYLIGHT
END:VTIMEZONE
END:VCALENDAR